BEGIN:VCALENDAR
VERSION:2.0
CALSCALE:GREGORIAN
PRODID:adamgibbons/ics
METHOD:PUBLISH
X-PUBLISHED-TTL:PT1H
BEGIN:VEVENT
UID:69e4a7942887503d709fca39
SUMMARY:Sunday Recharge Yoga Flow 🌳
DTSTAMP:20260408T175800Z
DTSTART:20260531T110000
DESCRIPTION:Meet at the rookery and bring a mat.
URL:https://bua.fit/class/HQMrLhy6Ne1E
GEO:51.42145999999999;-0.12085
LOCATION:Streatham Common\\\, Streatham South\\\, SW16 3BX
CATEGORIES:Yoga
ORGANIZER;CN=Bua Fit:mailto:info@buafit.com
DURATION:PT60M
END:VEVENT
END:VCALENDAR
