BEGIN:VCALENDAR
VERSION:2.0
CALSCALE:GREGORIAN
PRODID:adamgibbons/ics
METHOD:PUBLISH
X-PUBLISHED-TTL:PT1H
BEGIN:VEVENT
UID:69e9c365e643c6238fd11306
SUMMARY:Lower body workout 🦵
DTSTAMP:20260420T135500Z
DTSTART:20260604T080000
DESCRIPTION:Meet on Zoom. Any injuries please direct message me
URL:https://bua.fit/class/IS6auqfGKdDc
LOCATION:Online
CATEGORIES:Core
ORGANIZER;CN=Bua Fit:mailto:info@buafit.com
DURATION:PT30M
END:VEVENT
END:VCALENDAR
