BEGIN:VCALENDAR
VERSION:2.0
CALSCALE:GREGORIAN
PRODID:adamgibbons/ics
METHOD:PUBLISH
X-PUBLISHED-TTL:PT1H
BEGIN:VEVENT
UID:69e8fe84b086d812e2249b00
SUMMARY:Harder\, Better\, Faster\, Stronger :: HIIT IT!
DTSTAMP:20260420T135500Z
DTSTART:20260603T180000
DESCRIPTION:Water\, bring gallons of water.
URL:https://bua.fit/class/ImO5sGou6nxo
GEO:51.5091318;-0.1507049
LOCATION:Mount Street Gardens\\\, Mayfair\\\, W1K 2TH
CATEGORIES:HIIT
ORGANIZER;CN=Bua Fit:mailto:info@buafit.com
DURATION:PT60M
END:VEVENT
END:VCALENDAR
