BEGIN:VCALENDAR
VERSION:2.0
CALSCALE:GREGORIAN
PRODID:adamgibbons/ics
METHOD:PUBLISH
X-PUBLISHED-TTL:PT1H
BEGIN:VEVENT
UID:69b6c964b6b0cd078c481861
SUMMARY:KAPOW💥:  Badass Bua Boxing 🥊
DTSTAMP:20260420T135500Z
DTSTART:20260426T150000
DESCRIPTION:Meet by in centre of the garden and bring water 💦
URL:https://bua.fit/class/ImiWsbL0deh1
GEO:51.5131903;-0.0966108
LOCATION:Festival Gardens\\\, London\\\, EC4M 8AD
CATEGORIES:Boxing
ORGANIZER;CN=Bua Fit:mailto:info@buafit.com
DURATION:PT60M
END:VEVENT
END:VCALENDAR
