BEGIN:VCALENDAR
VERSION:2.0
CALSCALE:GREGORIAN
PRODID:adamgibbons/ics
METHOD:PUBLISH
X-PUBLISHED-TTL:PT1H
BEGIN:VEVENT
UID:69e5f915fe365b6932130169
SUMMARY:Test Class
DTSTAMP:20260408T175800Z
DTSTART:20260601T110000
DESCRIPTION:Test
URL:https://bua.fit/class/J2f41VephSVS
GEO:51.503878321984566;-0.12194327085571777
LOCATION:London
CATEGORIES:Zumba
ORGANIZER;CN=Bua Fit:mailto:info@buafit.com
DURATION:PT100M
END:VEVENT
END:VCALENDAR
