BEGIN:VCALENDAR
VERSION:2.0
CALSCALE:GREGORIAN
PRODID:adamgibbons/ics
METHOD:PUBLISH
X-PUBLISHED-TTL:PT1H
BEGIN:VEVENT
UID:69e7a5fe4c4368773e161198
SUMMARY:Bua Bodyweight H.I.I.T. 💪
DTSTAMP:20260420T135500Z
DTSTART:20260602T173000
DESCRIPTION:Meet by the gate and bring water 💦
URL:https://bua.fit/class/J50Xz3yum3a6
GEO:51.55040252053208;-0.10085637882079279
LOCATION:Highbury Fields\\\, Highbury East\\\, N5 1AR
CATEGORIES:HIIT
ORGANIZER;CN=Bua Fit:mailto:info@buafit.com
DURATION:PT60M
END:VEVENT
END:VCALENDAR
