BEGIN:VCALENDAR
VERSION:2.0
CALSCALE:GREGORIAN
PRODID:adamgibbons/ics
METHOD:PUBLISH
X-PUBLISHED-TTL:PT1H
BEGIN:VEVENT
UID:69e5dcf404ac820c6f0c3367
SUMMARY:🌬️ Breathwork Masterclass for Stress Management 🧘‍♂️✨
DTSTAMP:20260408T175800Z
DTSTART:20260601T090000
DESCRIPTION:Learn how to calm your mind and reduce stress through the power
	 of intentional breathing. \n\nIn this masterclass\, you'll explore proven
	 breathwork techniques to manage stress\, boost focus\, and restore balanc
	e. Breathe your way to a calmer\, more grounded you! 🌿
URL:https://bua.fit/class/J8N3K33raVTG
GEO:51.5073509;-0.1277583
LOCATION:London
CATEGORIES:Breathwork
ORGANIZER;CN=Bua Fit:mailto:info@buafit.com
DURATION:PT95M
END:VEVENT
END:VCALENDAR
