BEGIN:VCALENDAR
VERSION:2.0
CALSCALE:GREGORIAN
PRODID:adamgibbons/ics
METHOD:PUBLISH
X-PUBLISHED-TTL:PT1H
BEGIN:VEVENT
UID:69e60e2c87f3450480b5930f
SUMMARY:BUA Yoga Flow Mojo
DTSTAMP:20260420T135500Z
DTSTART:20260601T123000
DESCRIPTION:Meet by the drinking fountain and bring your mat.  We will then
	 walk over to the lake for our practice.
URL:https://bua.fit/class/JIrR4BUeCB5m
GEO:51.431490735310604;-0.14648142673645337
LOCATION:Tooting Common Lake\\\, London\\\, SW16 1RT
CATEGORIES:Yoga
ORGANIZER;CN=Bua Fit:mailto:info@buafit.com
DURATION:PT60M
END:VEVENT
END:VCALENDAR
