BEGIN:VCALENDAR
VERSION:2.0
CALSCALE:GREGORIAN
PRODID:adamgibbons/ics
METHOD:PUBLISH
X-PUBLISHED-TTL:PT1H
BEGIN:VEVENT
UID:69e86adc56b8882e6dee8eb5
SUMMARY:Bua Yoga 🤸‍♀️
DTSTAMP:20260420T135500Z
DTSTART:20260603T073000
DESCRIPTION:Meet by the entrance to the Rookery
URL:https://bua.fit/class/JJT7eHAPMxgd
GEO:51.42236860000002;-0.11933118305054391
LOCATION:Streatham Common\\\, Streatham South\\\, SW16 3BX
CATEGORIES:Yoga
ORGANIZER;CN=Bua Fit:mailto:info@buafit.com
DURATION:PT60M
END:VEVENT
END:VCALENDAR
