BEGIN:VCALENDAR
VERSION:2.0
CALSCALE:GREGORIAN
PRODID:adamgibbons/ics
METHOD:PUBLISH
X-PUBLISHED-TTL:PT1H
BEGIN:VEVENT
UID:69e4b5a410c478797efafa72
SUMMARY:Sunday Recharge Yoga 🌳
DTSTAMP:20260408T175800Z
DTSTART:20260531T120000
DESCRIPTION:Meet by the bandstand \n\nPlease bring a mat.
URL:https://bua.fit/class/JLHw8BUu1lnT
GEO:51.47925236168044;-0.15797289586304109
LOCATION:Battersea Park\\\, Battersea\\\, SW11 4NJ
CATEGORIES:Yoga
ORGANIZER;CN=Bua Fit:mailto:info@buafit.com
DURATION:PT60M
END:VEVENT
END:VCALENDAR
