BEGIN:VCALENDAR
VERSION:2.0
CALSCALE:GREGORIAN
PRODID:adamgibbons/ics
METHOD:PUBLISH
X-PUBLISHED-TTL:PT1H
BEGIN:VEVENT
UID:69b55bc4c09a0363b969eb19
SUMMARY:Lunchtime Yoga Mojo 🌾🧘😅
DTSTAMP:20260420T135500Z
DTSTART:20260425T130000
DESCRIPTION:The outdoor Yoga experience. 📱🌳\n\nBring your mat. 👍\n
URL:https://bua.fit/class/JhycHtuSBqTc
GEO:51.5096594;-0.08254159999999999
LOCATION:Saint Dunstan in the East Church Garden\\\, Billingsgate\\\, EC3R 
	5DD
CATEGORIES:Yoga
ORGANIZER;CN=Bua Fit:mailto:info@buafit.com
DURATION:PT60M
END:VEVENT
END:VCALENDAR
