BEGIN:VCALENDAR
VERSION:2.0
CALSCALE:GREGORIAN
PRODID:adamgibbons/ics
METHOD:PUBLISH
X-PUBLISHED-TTL:PT1H
BEGIN:VEVENT
UID:69e8e96d1fe991557b25de0a
SUMMARY:Yoga Flow 🌿
DTSTAMP:20260420T135500Z
DTSTART:20260603T163000
DESCRIPTION:Let's meet at the entrance closest to Bethnal Green Station as 
	denoted by the pin. Please bring a yoga mat and water.
URL:https://bua.fit/class/KEEOgx9fLJGw
GEO:51.52410119934201;-0.06064121216429852
LOCATION:Weavers Fields\\\, London\\\, E2 6HD
CATEGORIES:Yoga
ORGANIZER;CN=Bua Fit:mailto:info@buafit.com
DURATION:PT45M
END:VEVENT
END:VCALENDAR
