BEGIN:VCALENDAR
VERSION:2.0
CALSCALE:GREGORIAN
PRODID:adamgibbons/ics
METHOD:PUBLISH
X-PUBLISHED-TTL:PT1H
BEGIN:VEVENT
UID:69e71254a405c832417243f7
SUMMARY:Calorie Crusher: BUA Boardwalk Bootcamp 😅
DTSTAMP:20260420T135500Z
DTSTART:20260602T070000
DESCRIPTION:Meet on the platform over looking The Thames 😀. Please bring w
	ater and your A game.  
URL:https://bua.fit/class/Kg3NbCFnTEEy
GEO:51.50842483822227;-0.08421970132752143
LOCATION:Old Billingsgate Walk\\\, Billingsgate
CATEGORIES:HIIT,Bodyweight
ORGANIZER;CN=Bua Fit:mailto:info@buafit.com
DURATION:PT60M
END:VEVENT
END:VCALENDAR
