BEGIN:VCALENDAR
VERSION:2.0
CALSCALE:GREGORIAN
PRODID:adamgibbons/ics
METHOD:PUBLISH
X-PUBLISHED-TTL:PT1H
BEGIN:VEVENT
UID:69ecd6e434824c52f36a00af
SUMMARY:Bua Yoga: Primal Vinyasa 🌿
DTSTAMP:20260420T135500Z
DTSTART:20260606T160000
DESCRIPTION:Meet by the lido 
URL:https://bua.fit/class/Kjhrejd3KMzz
GEO:51.5422817;-0.06146169999999999
LOCATION:London Fields Lido\\\, Hackney\\\, E8 3EU
CATEGORIES:Yoga
ORGANIZER;CN=Bua Fit:mailto:info@buafit.com
DURATION:PT60M
END:VEVENT
END:VCALENDAR
