BEGIN:VCALENDAR
VERSION:2.0
CALSCALE:GREGORIAN
PRODID:adamgibbons/ics
METHOD:PUBLISH
X-PUBLISHED-TTL:PT1H
BEGIN:VEVENT
UID:69e8b12e95b6692ab246411e
SUMMARY:Harder\, Better\, Faster\, Stronger :: HIIT IT! 🙌
DTSTAMP:20260420T135500Z
DTSTART:20260603T123000
DESCRIPTION:Water\, bring gallons of water.\nMeet in the middle! 
URL:https://bua.fit/class/L98HIfKLDa3I
GEO:51.51651918063345;-0.14501280786513915
LOCATION:Cavendish Square\\\, Marylebone
CATEGORIES:HIIT,Bodyweight
ORGANIZER;CN=Bua Fit:mailto:info@buafit.com
DURATION:PT45M
END:VEVENT
END:VCALENDAR
