BEGIN:VCALENDAR
VERSION:2.0
CALSCALE:GREGORIAN
PRODID:adamgibbons/ics
METHOD:PUBLISH
X-PUBLISHED-TTL:PT1H
BEGIN:VEVENT
UID:69ea02ad6667936829cf9d40
SUMMARY:Bodyweight H.I.I.T. 👊 👊 👊
DTSTAMP:20260420T135500Z
DTSTART:20260604T123000
DESCRIPTION:Please meet bang in the middle as denoted by the pin.
URL:https://bua.fit/class/LDwDQZLUB9Vk
GEO:51.51529959999999;-0.1322004
LOCATION:Soho Square Gardens\\\, Soho\\\, W1D 3QP
CATEGORIES:HIIT,Bodyweight
ORGANIZER;CN=Bua Fit:mailto:info@buafit.com
DURATION:PT45M
END:VEVENT
END:VCALENDAR
