BEGIN:VCALENDAR
VERSION:2.0
CALSCALE:GREGORIAN
PRODID:adamgibbons/ics
METHOD:PUBLISH
X-PUBLISHED-TTL:PT1H
BEGIN:VEVENT
UID:69e7a5fe3fe12b6ad896f998
SUMMARY:🔥 Burn Baby Burn 🔥
DTSTAMP:20260420T135500Z
DTSTART:20260602T173000
DESCRIPTION:Meet by the skate park at the pin drop
URL:https://bua.fit/class/LJGXvfKkOD8E
GEO:51.46109315989211;-0.14328524655761177
LOCATION:Clapham Common Skatepark\\\, Rookery Road\\\, SW4 9DD
CATEGORIES:HIIT,Bodyweight
ORGANIZER;CN=Bua Fit:mailto:info@buafit.com
DURATION:PT60M
END:VEVENT
END:VCALENDAR
