BEGIN:VCALENDAR
VERSION:2.0
CALSCALE:GREGORIAN
PRODID:adamgibbons/ics
METHOD:PUBLISH
X-PUBLISHED-TTL:PT1H
BEGIN:VEVENT
UID:69ea5006f098fb0c7a8163b2
SUMMARY:Glamour Burn Bootcamp 💪
DTSTAMP:20260420T135500Z
DTSTART:20260604T180000
DESCRIPTION:Meet by the entrance to the Rookery
URL:https://bua.fit/class/LlEnpUw9xRG8
GEO:51.42239536090391;-0.11937409839478219
LOCATION:Streatham Common\\\, Streatham South\\\, SW16 3BX
CATEGORIES:Bootcamp
ORGANIZER;CN=Bua Fit:mailto:info@buafit.com
DURATION:PT60M
END:VEVENT
END:VCALENDAR
