BEGIN:VCALENDAR
VERSION:2.0
CALSCALE:GREGORIAN
PRODID:adamgibbons/ics
METHOD:PUBLISH
X-PUBLISHED-TTL:PT1H
BEGIN:VEVENT
UID:69ec82846f5aaf686c5e47fb
SUMMARY:Bua Bodyweight H.I.I.T. 💪
DTSTAMP:20260420T135500Z
DTSTART:20260606T100000
DESCRIPTION:Meet by playground at the Pub on the Park.  Please bring plenty
	 of water and a sweat towel - you’ll need it!
URL:https://bua.fit/class/LoDukNFsig3k
GEO:51.54098560000001;-0.0576997
LOCATION:London Fields\\\, Hackney\\\, E8 3PH
CATEGORIES:HIIT
ORGANIZER;CN=Bua Fit:mailto:info@buafit.com
DURATION:PT60M
END:VEVENT
END:VCALENDAR
