BEGIN:VCALENDAR
VERSION:2.0
CALSCALE:GREGORIAN
PRODID:adamgibbons/ics
METHOD:PUBLISH
X-PUBLISHED-TTL:PT1H
BEGIN:VEVENT
UID:69e364241c17bf42cd4ab4de
SUMMARY:Saturday smasher 🥊👊
DTSTAMP:20260420T135500Z
DTSTART:20260530T120000
DESCRIPTION:Meet online. Any injuries please direct message me.
URL:https://bua.fit/class/MQsQDgWiMC0V
LOCATION:Online
CATEGORIES:HIIT,Boxing
ORGANIZER;CN=Bua Fit:mailto:info@buafit.com
DURATION:PT45M
END:VEVENT
END:VCALENDAR
