BEGIN:VCALENDAR
VERSION:2.0
CALSCALE:GREGORIAN
PRODID:adamgibbons/ics
METHOD:PUBLISH
X-PUBLISHED-TTL:PT1H
BEGIN:VEVENT
UID:69e90c959c2928530d310a10
SUMMARY:Pre-Post Natal Nutrition Seminar: Nourish for Two and Beyond! 🤰🥑
DTSTAMP:20260420T135500Z
DTSTART:20260603T190000
DESCRIPTION:Detailed Q & A\, slides\, and super interactive.
URL:https://bua.fit/class/MWe5OgzCzPwl
GEO:51.5073509;-0.1277583
LOCATION:London
CATEGORIES:Nutrition
ORGANIZER;CN=Bua Fit:mailto:info@buafit.com
DURATION:PT90M
END:VEVENT
END:VCALENDAR
