BEGIN:VCALENDAR
VERSION:2.0
CALSCALE:GREGORIAN
PRODID:adamgibbons/ics
METHOD:PUBLISH
X-PUBLISHED-TTL:PT1H
BEGIN:VEVENT
UID:69e60e2c29bc946c676e57c1
SUMMARY:Burn Baby Burn
DTSTAMP:20260420T135500Z
DTSTART:20260601T123000
DESCRIPTION:Please bring water!
URL:https://bua.fit/class/MZ0dqKXQtGqd
GEO:51.5094967;-0.1459015
LOCATION:Berkeley Square\\\, Mayfair
CATEGORIES:HIIT
ORGANIZER;CN=Bua Fit:mailto:info@buafit.com
DURATION:PT60M
END:VEVENT
END:VCALENDAR
