BEGIN:VCALENDAR
VERSION:2.0
CALSCALE:GREGORIAN
PRODID:adamgibbons/ics
METHOD:PUBLISH
X-PUBLISHED-TTL:PT1H
BEGIN:VEVENT
UID:69eb06d4def4f63ecbd97d23
SUMMARY:Calorie Crushing Burn Bootcamp 💪
DTSTAMP:20260420T135500Z
DTSTART:20260605T070000
DESCRIPTION:Meet at the bandstand 
URL:https://bua.fit/class/Mg26clKE4N5W
GEO:51.5365614;-0.03897199999999999
LOCATION:Victoria Park\\\, London\\\, E3 5TB
CATEGORIES:Bootcamp
ORGANIZER;CN=Bua Fit:mailto:info@buafit.com
DURATION:PT60M
END:VEVENT
END:VCALENDAR
