BEGIN:VCALENDAR
VERSION:2.0
CALSCALE:GREGORIAN
PRODID:adamgibbons/ics
METHOD:PUBLISH
X-PUBLISHED-TTL:PT1H
BEGIN:VEVENT
UID:69b7a35c216fe90a46c886e0
SUMMARY:The Circuit Circus 🏃🏼🏃🏼‍♀‍🌳
DTSTAMP:20260420T135500Z
DTSTART:20260427T063000
DESCRIPTION:Meet in front of the coffee shop bring water💦
URL:https://bua.fit/class/N7MQdJk5pGX0
GEO:51.5138666;-0.07680759999999999
LOCATION:Aldgate Square\\\, London\\\, EC3N 1AF
CATEGORIES:Bodyweight
ORGANIZER;CN=Bua Fit:mailto:info@buafit.com
DURATION:PT60M
END:VEVENT
END:VCALENDAR
