BEGIN:VCALENDAR
VERSION:2.0
CALSCALE:GREGORIAN
PRODID:adamgibbons/ics
METHOD:PUBLISH
X-PUBLISHED-TTL:PT1H
BEGIN:VEVENT
UID:69dd2104cc73a069c07cb6e6
SUMMARY:The Caribbean Body Movement💥: The Meta Intellectual Mindset Series
DTSTAMP:20260420T135500Z
DTSTART:20260525T180000
DESCRIPTION:Please have a mat (or towel) and water handy.
URL:https://bua.fit/class/NaHjxeerOXkG
LOCATION:Online
CATEGORIES:Bootcamp,HIIT
ORGANIZER;CN=Bua Fit:mailto:info@buafit.com
DURATION:PT45M
END:VEVENT
END:VCALENDAR
