BEGIN:VCALENDAR
VERSION:2.0
CALSCALE:GREGORIAN
PRODID:adamgibbons/ics
METHOD:PUBLISH
X-PUBLISHED-TTL:PT1H
BEGIN:VEVENT
UID:69e90c957ce83842c985dad5
SUMMARY:Maxicise Dance Aerobics to BANGING TUNES!
DTSTAMP:20260420T135500Z
DTSTART:20260603T190000
DESCRIPTION:The entrance to the hall is on Bunsen Street\, it's a big orang
	e door\, you can't miss it.\n\nYou will see my banner outside\, see pic at
	tached.\n\nIt's about a 7 minute walk from Mile End tube station on the Ce
	ntral line.\n\n
URL:https://bua.fit/class/Q3y0oLuRmUN4
GEO:51.531455;-0.0402173
LOCATION:E3 5TG\\\, Grove Road
CATEGORIES:Dance Fit
ORGANIZER;CN=Bua Fit:mailto:info@buafit.com
DURATION:PT60M
END:VEVENT
END:VCALENDAR
