BEGIN:VCALENDAR
VERSION:2.0
CALSCALE:GREGORIAN
PRODID:adamgibbons/ics
METHOD:PUBLISH
X-PUBLISHED-TTL:PT1H
BEGIN:VEVENT
UID:69e72e74315700115fe9412f
SUMMARY:Vinyasa Yoga: Flow with Energy and Grace 🌊🧘‍♂️
DTSTAMP:20260420T135500Z
DTSTART:20260602T090000
DESCRIPTION:Please bring a mat\, ideally.\n\nAll our yoga instructors have 
	5-30 years experience and 90% are qualified in India.
URL:https://bua.fit/class/Q6Do3utXz8nN
GEO:51.5073509;-0.1277583
LOCATION:London
CATEGORIES:Yoga
ORGANIZER;CN=Bua Fit:mailto:info@buafit.com
DURATION:PT60M
END:VEVENT
END:VCALENDAR
