BEGIN:VCALENDAR
VERSION:2.0
CALSCALE:GREGORIAN
PRODID:adamgibbons/ics
METHOD:PUBLISH
X-PUBLISHED-TTL:PT1H
BEGIN:VEVENT
UID:69e7ad0401544c3c98da7ad6
SUMMARY:HIIT-ENERGISE
DTSTAMP:20260420T135500Z
DTSTART:20260602T180000
DESCRIPTION:If you're looking for high energy\, sweat and challenges then T
	HIS is the class for you. Lets get that heart pumping and us our amazing b
	odies to work up a good sweat! Who's in?
URL:https://bua.fit/class/QdVyWt9Qxze2
LOCATION:Online
CATEGORIES:HIIT
ORGANIZER;CN=Bua Fit:mailto:info@buafit.com
DURATION:PT30M
END:VEVENT
END:VCALENDAR
