BEGIN:VCALENDAR
VERSION:2.0
CALSCALE:GREGORIAN
PRODID:adamgibbons/ics
METHOD:PUBLISH
X-PUBLISHED-TTL:PT1H
BEGIN:VEVENT
UID:69e9b5540d817279089d2a8d
SUMMARY:💣 War On Your Core 💣
DTSTAMP:20260420T135500Z
DTSTART:20260604T070000
DESCRIPTION:Please meet at the pin\, by the Boris bikes.\nPlease bring wate
	r. 
URL:https://bua.fit/class/Qfv3RQr7YVtH
GEO:51.47281671703859;-0.19978145575027417
LOCATION:Parsons Green\\\, London\\\, SW6
CATEGORIES:Bodyweight
ORGANIZER;CN=Bua Fit:mailto:info@buafit.com
DURATION:PT60M
END:VEVENT
END:VCALENDAR
