BEGIN:VCALENDAR
VERSION:2.0
CALSCALE:GREGORIAN
PRODID:adamgibbons/ics
METHOD:PUBLISH
X-PUBLISHED-TTL:PT1H
BEGIN:VEVENT
UID:69ea570ea307633dfbb4c254
SUMMARY:Calorie Crusher: London's Toughest Outdoor Bootcamp 😅
DTSTAMP:20260420T135500Z
DTSTART:20260604T183000
DESCRIPTION:Meet near the skate park and dont forget your water!
URL:https://bua.fit/class/Rk297oaTUWS6
GEO:51.460845830591175;-0.14294192380370552
LOCATION:Clapham Common Skatepark\\\, Rookery Road\\\, SW4 9DD
CATEGORIES:Bootcamp
ORGANIZER;CN=Bua Fit:mailto:info@buafit.com
DURATION:PT60M
END:VEVENT
END:VCALENDAR
