BEGIN:VCALENDAR
VERSION:2.0
CALSCALE:GREGORIAN
PRODID:adamgibbons/ics
METHOD:PUBLISH
X-PUBLISHED-TTL:PT1H
BEGIN:VEVENT
UID:69ec7475c61ad6697e793137
SUMMARY:Maxicise Dance Aerobics to BANGING TUNES!
DTSTAMP:20260420T135500Z
DTSTART:20260606T090000
DESCRIPTION:Every Saturday morning at 9am\nGet your PE kit on\, grab a bott
	le of water.\nClear the floor of cats\, dogs\, kids and carpets.\nBe prepa
	red to have a BLIMMIN GOOD TIME! XxX
URL:https://bua.fit/class/Sd18pTQCPTQL
LOCATION:Online
CATEGORIES:Dance Fit
ORGANIZER;CN=Bua Fit:mailto:info@buafit.com
DURATION:PT60M
END:VEVENT
END:VCALENDAR
