BEGIN:VCALENDAR
VERSION:2.0
CALSCALE:GREGORIAN
PRODID:adamgibbons/ics
METHOD:PUBLISH
X-PUBLISHED-TTL:PT1H
BEGIN:VEVENT
UID:69e5c7dc84b1ee78f1dbaf2e
SUMMARY:Yoga Flow 🌿
DTSTAMP:20260408T175800Z
DTSTART:20260601T073000
DESCRIPTION:Meet at the bandstand and bring water. 💦
URL:https://bua.fit/class/SyViRymVxBFx
GEO:51.53611934931671;-0.03909759485930975
LOCATION:Victoria Park\\\, London
CATEGORIES:Yoga
ORGANIZER;CN=Bua Fit:mailto:info@buafit.com
DURATION:PT60M
END:VEVENT
END:VCALENDAR
