BEGIN:VCALENDAR
VERSION:2.0
CALSCALE:GREGORIAN
PRODID:adamgibbons/ics
METHOD:PUBLISH
X-PUBLISHED-TTL:PT1H
BEGIN:VEVENT
UID:69b7b8743df8877e7eb80b9a
SUMMARY:Morning Yoga Mojo 🌾🧘😅
DTSTAMP:20260420T135500Z
DTSTART:20260427T080000
DESCRIPTION:Please meet at the south side of Battersea Bridge\, as denoted 
	by the pin. There is a statute of two people. Please bring water.\n
URL:https://bua.fit/class/TYTwOgh0V9Tg
GEO:51.483383727519744;-0.15006079836426656
LOCATION:Battersea Park\\\, Battersea\\\, SW11 4NJ
CATEGORIES:Yoga
ORGANIZER;CN=Bua Fit:mailto:info@buafit.com
DURATION:PT60M
END:VEVENT
END:VCALENDAR
