BEGIN:VCALENDAR
VERSION:2.0
CALSCALE:GREGORIAN
PRODID:adamgibbons/ics
METHOD:PUBLISH
X-PUBLISHED-TTL:PT1H
BEGIN:VEVENT
UID:69e65b8629bd6e49dc055790
SUMMARY:The Circuit Circus 🏃🏼🏃🏼‍♀‍🌳
DTSTAMP:20260420T135500Z
DTSTART:20260601T180000
DESCRIPTION:Meet by the entrance to the Rookery and bring water💦
URL:https://bua.fit/class/TgFpSBJ5pUmx
GEO:51.422341839080474;-0.1196959634765693
LOCATION:Streatham Common\\\, Streatham South\\\, SW16 3BX
CATEGORIES:Bodyweight
ORGANIZER;CN=Bua Fit:mailto:info@buafit.com
DURATION:PT60M
END:VEVENT
END:VCALENDAR
