BEGIN:VCALENDAR
VERSION:2.0
CALSCALE:GREGORIAN
PRODID:adamgibbons/ics
METHOD:PUBLISH
X-PUBLISHED-TTL:PT1H
BEGIN:VEVENT
UID:69e499857e3f30586978913f
SUMMARY:Sole Mates Run Club 🏃🏼
DTSTAMP:20260408T175800Z
DTSTART:20260531T100000
DESCRIPTION:Meet near the playground at the Pub in the Park
URL:https://bua.fit/class/Tq9wgqxiz2cT
GEO:51.54195982559769;-0.05836488783568683
LOCATION:London Fields\\\, Hackney\\\, E8 3PH
CATEGORIES:Cardio
ORGANIZER;CN=Bua Fit:mailto:info@buafit.com
DURATION:PT60M
END:VEVENT
END:VCALENDAR
