BEGIN:VCALENDAR
VERSION:2.0
CALSCALE:GREGORIAN
PRODID:adamgibbons/ics
METHOD:PUBLISH
X-PUBLISHED-TTL:PT1H
BEGIN:VEVENT
UID:69e87ff680285f4c0320c570
SUMMARY:Mental fitness training
DTSTAMP:20260420T135500Z
DTSTART:20260603T090000
DESCRIPTION:In this workshop\, participants will enhance their ability to m
	aintain focus\, strengthen concentration  and build resilience through ste
	p-by-step guided practices. They will learn techniques to notice and relea
	se physical tensions associated with stress.\n\nThe purpose of this worksh
	op is to improve mental clarity and emotional balance that help sustain hi
	gh performance even under stress.
URL:https://bua.fit/class/TwR5F8nCpqZX
GEO:51.5073509;-0.1277583
LOCATION:London
CATEGORIES:Mentoring & Coaching 
ORGANIZER;CN=Bua Fit:mailto:info@buafit.com
DURATION:PT60M
END:VEVENT
END:VCALENDAR
