BEGIN:VCALENDAR
VERSION:2.0
CALSCALE:GREGORIAN
PRODID:adamgibbons/ics
METHOD:PUBLISH
X-PUBLISHED-TTL:PT1H
BEGIN:VEVENT
UID:69e5dcf52f77d256e249d4f1
SUMMARY:⏸️ The Power of Pausing Class 🧘‍♀️✨
DTSTAMP:20260408T175800Z
DTSTART:20260601T090000
DESCRIPTION:Learn how taking intentional pauses can reduce stress\, enhance
	 focus\, and bring clarity to your life. This class offers mindfulness tec
	hniques and practical tools to help you slow down\, reset\, and find balan
	ce in a fast-paced world. 🌿💡
URL:https://bua.fit/class/Uobr5FjWuAvp
GEO:51.5073509;-0.1277583
LOCATION:London
CATEGORIES:Educational Wellness
ORGANIZER;CN=Bua Fit:mailto:info@buafit.com
DURATION:PT50M
END:VEVENT
END:VCALENDAR
