BEGIN:VCALENDAR
VERSION:2.0
CALSCALE:GREGORIAN
PRODID:adamgibbons/ics
METHOD:PUBLISH
X-PUBLISHED-TTL:PT1H
BEGIN:VEVENT
UID:69eb5b35891ea20ef0ebee7b
SUMMARY:Pole in the Park! 
DTSTAMP:20260420T135500Z
DTSTART:20260605T130000
DESCRIPTION:Meet at West Ham Park band stand - just in case it rains! 
URL:https://bua.fit/class/V2kzdBH2oyj0
GEO:51.53844236228184;0.019070412442001583
LOCATION:West Ham Park\\\, London\\\, E7 9PU
CATEGORIES:Calisthenics,Dance Fit
ORGANIZER;CN=Bua Fit:mailto:info@buafit.com
DURATION:PT60M
END:VEVENT
END:VCALENDAR
