BEGIN:VCALENDAR
VERSION:2.0
CALSCALE:GREGORIAN
PRODID:adamgibbons/ics
METHOD:PUBLISH
X-PUBLISHED-TTL:PT1H
BEGIN:VEVENT
UID:69b68314175a39137c945ce2
SUMMARY:Morning Yoga Mojo 🌾🧘😅
DTSTAMP:20260420T135500Z
DTSTART:20260426T100000
DESCRIPTION:Meet by the bandstand.\n\nBring your mat. 👍\n
URL:https://bua.fit/class/VGPymKhCiHxh
GEO:51.51791908023745;-0.08673642275390137
LOCATION:Finsbury Circus\\\, London
CATEGORIES:Yoga
ORGANIZER;CN=Bua Fit:mailto:info@buafit.com
DURATION:PT60M
END:VEVENT
END:VCALENDAR
