BEGIN:VCALENDAR
VERSION:2.0
CALSCALE:GREGORIAN
PRODID:adamgibbons/ics
METHOD:PUBLISH
X-PUBLISHED-TTL:PT1H
BEGIN:VEVENT
UID:69df53bb9b7a233004ff0fcf
SUMMARY:Tezt
DTSTAMP:20260420T135500Z
DTSTART:20260527T100000
DESCRIPTION:Tezt
URL:https://bua.fit/class/W3ZqVAGLKGCw
LOCATION:Online
CATEGORIES:Boxing
ORGANIZER;CN=Bua Fit:mailto:info@buafit.com
DURATION:PT50M
END:VEVENT
END:VCALENDAR
