BEGIN:VCALENDAR
VERSION:2.0
CALSCALE:GREGORIAN
PRODID:adamgibbons/ics
METHOD:PUBLISH
X-PUBLISHED-TTL:PT1H
BEGIN:VEVENT
UID:69e5dcf5000b9e09d408d609
SUMMARY:🧘‍♀️ Yin + Sound Healing + Reiki Wellness Class 🎶✨
DTSTAMP:20260408T175800Z
DTSTART:20260601T090000
DESCRIPTION:Relax\, restore\, and rejuvenate with a healing blend of Yin Yo
	ga\, sound therapy\, and Reiki energy work. In this calming class\, you'll
	 stretch deeply\, soak in the soothing vibrations of healing sounds\, and 
	receive Reiki to balance your energy. Perfect for anyone seeking deep rela
	xation and emotional healing. 🌙💆‍♀️
URL:https://bua.fit/class/Wz8DszpjbHnS
GEO:51.5073509;-0.1277583
LOCATION:London
CATEGORIES:Yoga
ORGANIZER;CN=Bua Fit:mailto:info@buafit.com
DURATION:PT50M
END:VEVENT
END:VCALENDAR
