BEGIN:VCALENDAR
VERSION:2.0
CALSCALE:GREGORIAN
PRODID:adamgibbons/ics
METHOD:PUBLISH
X-PUBLISHED-TTL:PT1H
BEGIN:VEVENT
UID:69e7ad040c6c5c7494cb571d
SUMMARY:☀️☀️☀️ Sundown Yoga ☀️☀️☀️
DTSTAMP:20260420T135500Z
DTSTART:20260602T180000
DESCRIPTION:Please meet at the pin\, near the Boris bike stand. Please brin
	g a mat if possible.
URL:https://bua.fit/class/X9Z06ij8chxO
GEO:51.472826529791845;-0.1997915595939559
LOCATION:Parsons Green\\\, Fulham\\\, SW6
CATEGORIES:Yoga
ORGANIZER;CN=Bua Fit:mailto:info@buafit.com
DURATION:PT60M
END:VEVENT
END:VCALENDAR
