BEGIN:VCALENDAR
VERSION:2.0
CALSCALE:GREGORIAN
PRODID:adamgibbons/ics
METHOD:PUBLISH
X-PUBLISHED-TTL:PT1H
BEGIN:VEVENT
UID:69e212a564375a4783c6752d
SUMMARY:Goddess Flow Friday 
DTSTAMP:20260408T175800Z
DTSTART:20260529T120000
DESCRIPTION:A lunchtime Vinyasa Flow class to round off the week. 
URL:https://bua.fit/class/Xa6sXcY8qa0u
LOCATION:Online
CATEGORIES:Core
ORGANIZER;CN=Bua Fit:mailto:info@buafit.com
DURATION:PT60M
END:VEVENT
END:VCALENDAR
