BEGIN:VCALENDAR
VERSION:2.0
CALSCALE:GREGORIAN
PRODID:adamgibbons/ics
METHOD:PUBLISH
X-PUBLISHED-TTL:PT1H
BEGIN:VEVENT
UID:69e88e3b3fa28d2aa6c0ab12
SUMMARY:Tezt
DTSTAMP:20260420T135500Z
DTSTART:20260603T100000
DESCRIPTION:Tezt
URL:https://bua.fit/class/YmSapcUc7TgZ
LOCATION:Online
CATEGORIES:Boxing
ORGANIZER;CN=Bua Fit:mailto:info@buafit.com
DURATION:PT50M
END:VEVENT
END:VCALENDAR
