BEGIN:VCALENDAR
VERSION:2.0
CALSCALE:GREGORIAN
PRODID:adamgibbons/ics
METHOD:PUBLISH
X-PUBLISHED-TTL:PT1H
BEGIN:VEVENT
UID:69e720648c95266c5bbd763c
SUMMARY:Stretch it! 
DTSTAMP:20260420T135500Z
DTSTART:20260602T080000
DESCRIPTION:Get a full body stretch session from the comfort of your own ho
	me. All you'll need is a mat and some water to stay hydrated.  
URL:https://bua.fit/class/ZCdYsTR8zUwX
LOCATION:Online
CATEGORIES:Stretch
ORGANIZER;CN=Bua Fit:mailto:info@buafit.com
DURATION:PT55M
END:VEVENT
END:VCALENDAR
