BEGIN:VCALENDAR
VERSION:2.0
CALSCALE:GREGORIAN
PRODID:adamgibbons/ics
METHOD:PUBLISH
X-PUBLISHED-TTL:PT1H
BEGIN:VEVENT
UID:69e7bb14cd4f200e04fbc54d
SUMMARY:DANCE FIT! 30 MINS ONLINE CLASS
DTSTAMP:20260420T135500Z
DTSTART:20260602T190000
DESCRIPTION:ONLINE ONLY 30 MINS CLASS
URL:https://bua.fit/class/ZarL0ymefZqb
LOCATION:Online
CATEGORIES:Dance Fit
ORGANIZER;CN=Bua Fit:mailto:info@buafit.com
DURATION:PT45M
END:VEVENT
END:VCALENDAR
