BEGIN:VCALENDAR
VERSION:2.0
CALSCALE:GREGORIAN
PRODID:adamgibbons/ics
METHOD:PUBLISH
X-PUBLISHED-TTL:PT1H
BEGIN:VEVENT
UID:69e79ef4f68bd363b9f83259
SUMMARY:Rep It Like It's Hot: AmRap
DTSTAMP:20260420T135500Z
DTSTART:20260602T170000
DESCRIPTION:Let's meet by the basketball courts. Please bring water. 
URL:https://bua.fit/class/aX7aIO4faes2
GEO:51.539949480856;-0.06062314484405862
LOCATION:London Fields\\\, Hackney\\\, E8 3EU
CATEGORIES:HIIT
ORGANIZER;CN=Bua Fit:mailto:info@buafit.com
DURATION:PT45M
END:VEVENT
END:VCALENDAR
