BEGIN:VCALENDAR
VERSION:2.0
CALSCALE:GREGORIAN
PRODID:adamgibbons/ics
METHOD:PUBLISH
X-PUBLISHED-TTL:PT1H
BEGIN:VEVENT
UID:69e9b554eb44a269de17332b
SUMMARY:Calorie Burn Bootcamp
DTSTAMP:20260420T135500Z
DTSTART:20260604T070000
DESCRIPTION:Meet by the entrance to the Rookery.
URL:https://bua.fit/class/ahWXnOIKawa7
GEO:51.42244888266465;-0.11926681003418649
LOCATION:Streatham Common\\\, Streatham South\\\, SW16 3BX
CATEGORIES:Bootcamp
ORGANIZER;CN=Bua Fit:mailto:info@buafit.com
DURATION:PT60M
END:VEVENT
END:VCALENDAR
