BEGIN:VCALENDAR
VERSION:2.0
CALSCALE:GREGORIAN
PRODID:adamgibbons/ics
METHOD:PUBLISH
X-PUBLISHED-TTL:PT1H
BEGIN:VEVENT
UID:69e4d1c408ede7762669932c
SUMMARY:Calorie Crusher🔥: Bua Boardwalk Bootcamp 😅
DTSTAMP:20260408T175800Z
DTSTART:20260531T140000
DESCRIPTION:Meet on the platform over looking The Thames😀 
URL:https://bua.fit/class/bHBHe7vxh1Hk
GEO:51.50842483822227;-0.08421970132752143
LOCATION:Old Billingsgate Walk\\\, Billingsgate
CATEGORIES:HIIT,Bodyweight
ORGANIZER;CN=Bua Fit:mailto:info@buafit.com
DURATION:PT60M
END:VEVENT
END:VCALENDAR
