BEGIN:VCALENDAR
VERSION:2.0
CALSCALE:GREGORIAN
PRODID:adamgibbons/ics
METHOD:PUBLISH
X-PUBLISHED-TTL:PT1H
BEGIN:VEVENT
UID:69b7b16d12814007161d37ba
SUMMARY:Ultimate Bodyweight Bootcamp 🎯
DTSTAMP:20260420T135500Z
DTSTART:20260427T073000
DESCRIPTION:Meet at Bandstand 
URL:https://bua.fit/class/bQJBia0Jm0Zi
GEO:51.4586117;-0.1493462
LOCATION:Clapham Common\\\, London\\\, SW4 9DE
CATEGORIES:HIIT
ORGANIZER;CN=Bua Fit:mailto:info@buafit.com
DURATION:PT60M
END:VEVENT
END:VCALENDAR
